BEGIN:VCALENDAR
VERSION:2.0
PRODID:-//JAX Fray //NONSGML Events //EN
CALSCALE:GREGORIAN
X-WR-CALNAME:JAX Fray
BEGIN:VEVENT
CREATED:20200901T202555Z
UID:5121
DTEND;VALUE=DATE:20260423T041925Z
DTSTART;VALUE=DATE:20260423T041925Z
DTSTAMP:20260423T081925Z
LOCATION:
DESCRIPTION:
SUMMARY:Online Bingo Night
ORGANIZER:
URL;VALUE=URI:https://www.jaxfray.com/event/online-bingo-night-7
TRANSP:OPAQUE
BEGIN:VALARM
ACTION:DISPLAY
TRIGGER;VALUE=DATE-TIME:20260423T041925Z
DESCRIPTION:Reminder for Online Bingo Night
END:VALARM
END:VEVENT
END:VCALENDAR