BEGIN:VCALENDAR
VERSION:2.0
PRODID:-//JAX Fray //NONSGML Events //EN
CALSCALE:GREGORIAN
X-WR-CALNAME:JAX Fray
BEGIN:VEVENT
CREATED:20200824T172835Z
UID:5089
DTEND;VALUE=DATE:20260423T053728Z
DTSTART;VALUE=DATE:20260423T053728Z
DTSTAMP:20260423T093728Z
LOCATION:
DESCRIPTION:
SUMMARY:Autumn Virtual Cocktail Class
ORGANIZER:
URL;VALUE=URI:https://www.jaxfray.com/event/autumn-virtual-cocktail-class
TRANSP:OPAQUE
BEGIN:VALARM
ACTION:DISPLAY
TRIGGER;VALUE=DATE-TIME:20260423T053728Z
DESCRIPTION:Reminder for Autumn Virtual Cocktail Class
END:VALARM
END:VEVENT
END:VCALENDAR