BEGIN:VCALENDAR
VERSION:2.0
PRODID:-//JAX Fray //NONSGML Events //EN
CALSCALE:GREGORIAN
X-WR-CALNAME:JAX Fray
BEGIN:VEVENT
CREATED:20200813T183922Z
UID:5070
DTEND;VALUE=DATE:20260423T055010Z
DTSTART;VALUE=DATE:20260423T055010Z
DTSTAMP:20260423T095010Z
LOCATION:
DESCRIPTION:
SUMMARY:Labor Day Virtual Cocktail Class
ORGANIZER:
URL;VALUE=URI:https://www.jaxfray.com/event/labor-day-virtual-cocktail-class
TRANSP:OPAQUE
BEGIN:VALARM
ACTION:DISPLAY
TRIGGER;VALUE=DATE-TIME:20260423T055010Z
DESCRIPTION:Reminder for Labor Day Virtual Cocktail Class
END:VALARM
END:VEVENT
END:VCALENDAR