BEGIN:VCALENDAR
VERSION:2.0
PRODID:-//JAX Fray //NONSGML Events //EN
CALSCALE:GREGORIAN
X-WR-CALNAME:JAX Fray
BEGIN:VEVENT
CREATED:20200727T171154Z
UID:5036
DTEND;VALUE=DATE:20260423T054503Z
DTSTART;VALUE=DATE:20260423T054503Z
DTSTAMP:20260423T094503Z
LOCATION:
DESCRIPTION:
SUMMARY:Trivia Night: The Bachelor
ORGANIZER:
URL;VALUE=URI:https://www.jaxfray.com/event/trivia-night-the-bachelor
TRANSP:OPAQUE
BEGIN:VALARM
ACTION:DISPLAY
TRIGGER;VALUE=DATE-TIME:20260423T054503Z
DESCRIPTION:Reminder for Trivia Night: The Bachelor
END:VALARM
END:VEVENT
END:VCALENDAR