BEGIN:VCALENDAR
VERSION:2.0
PRODID:-//JAX Fray //NONSGML Events //EN
CALSCALE:GREGORIAN
X-WR-CALNAME:JAX Fray
BEGIN:VEVENT
CREATED:20200723T173624Z
UID:5023
DTEND;VALUE=DATE:20260423T055337Z
DTSTART;VALUE=DATE:20260423T055337Z
DTSTAMP:20260423T095337Z
LOCATION:
DESCRIPTION:
SUMMARY:Craft Cocktail Class with Please Bring Chips
ORGANIZER:
URL;VALUE=URI:https://www.jaxfray.com/event/craft-cocktail-class-with-please-bring-chips
TRANSP:OPAQUE
BEGIN:VALARM
ACTION:DISPLAY
TRIGGER;VALUE=DATE-TIME:20260423T055337Z
DESCRIPTION:Reminder for Craft Cocktail Class with Please Bring Chips
END:VALARM
END:VEVENT
END:VCALENDAR