BEGIN:VCALENDAR
VERSION:2.0
PRODID:-//JAX Fray //NONSGML Events //EN
CALSCALE:GREGORIAN
X-WR-CALNAME:JAX Fray
BEGIN:VEVENT
CREATED:20200702T144419Z
UID:4949
DTEND;VALUE=DATE:20260423T054731Z
DTSTART;VALUE=DATE:20260423T054731Z
DTSTAMP:20260423T094731Z
LOCATION:
DESCRIPTION:
SUMMARY:Tuesday Night Trivia // Zombies
ORGANIZER:
URL;VALUE=URI:https://www.jaxfray.com/event/tuesday-night-trivia-zombies
TRANSP:OPAQUE
BEGIN:VALARM
ACTION:DISPLAY
TRIGGER;VALUE=DATE-TIME:20260423T054731Z
DESCRIPTION:Reminder for Tuesday Night Trivia // Zombies
END:VALARM
END:VEVENT
END:VCALENDAR