BEGIN:VCALENDAR
VERSION:2.0
PRODID:-//JAX Fray //NONSGML Events //EN
CALSCALE:GREGORIAN
X-WR-CALNAME:JAX Fray
BEGIN:VEVENT
CREATED:20200610T183609Z
UID:4901
DTEND;VALUE=DATE:20260420T082803Z
DTSTART;VALUE=DATE:20260420T082803Z
DTSTAMP:20260420T122803Z
LOCATION:
DESCRIPTION:
SUMMARY:Pride Yoga Brunch presented by Mission Lofts
ORGANIZER:
URL;VALUE=URI:https://www.jaxfray.com/event/pride-yoga-brunch-presented-by-mission-lofts
TRANSP:OPAQUE
BEGIN:VALARM
ACTION:DISPLAY
TRIGGER;VALUE=DATE-TIME:20260420T082803Z
DESCRIPTION:Reminder for Pride Yoga Brunch presented by Mission Lofts
END:VALARM
END:VEVENT
END:VCALENDAR