BEGIN:VCALENDAR
VERSION:2.0
PRODID:-//JAX Fray //NONSGML Events //EN
CALSCALE:GREGORIAN
X-WR-CALNAME:JAX Fray
BEGIN:VEVENT
CREATED:20200605T202928Z
UID:4870
DTEND;VALUE=DATE:20260423T054346Z
DTSTART;VALUE=DATE:20260423T054346Z
DTSTAMP:20260423T094346Z
LOCATION:
DESCRIPTION:
SUMMARY:Corona Drag Bingo
ORGANIZER:
URL;VALUE=URI:https://www.jaxfray.com/event/corona-drag-bingo
TRANSP:OPAQUE
BEGIN:VALARM
ACTION:DISPLAY
TRIGGER;VALUE=DATE-TIME:20260423T054346Z
DESCRIPTION:Reminder for Corona Drag Bingo
END:VALARM
END:VEVENT
END:VCALENDAR