BEGIN:VCALENDAR
VERSION:2.0
PRODID:-//JAX Fray //NONSGML Events //EN
CALSCALE:GREGORIAN
X-WR-CALNAME:JAX Fray
BEGIN:VEVENT
CREATED:20200605T205502Z
UID:4869
DTEND;VALUE=DATE:20260423T055042Z
DTSTART;VALUE=DATE:20260423T055042Z
DTSTAMP:20260423T095042Z
LOCATION:
DESCRIPTION:
SUMMARY:Pride Trivia presented by Parc Riverside
ORGANIZER:
URL;VALUE=URI:https://www.jaxfray.com/event/pride-trivia-presented-by-parc-riverside
TRANSP:OPAQUE
BEGIN:VALARM
ACTION:DISPLAY
TRIGGER;VALUE=DATE-TIME:20260423T055042Z
DESCRIPTION:Reminder for Pride Trivia presented by Parc Riverside
END:VALARM
END:VEVENT
END:VCALENDAR