BEGIN:VCALENDAR
VERSION:2.0
PRODID:-//JAX Fray //NONSGML Events //EN
CALSCALE:GREGORIAN
X-WR-CALNAME:JAX Fray
BEGIN:VEVENT
CREATED:20200522T173511Z
UID:4839
DTEND;VALUE=DATE:20260423T071926Z
DTSTART;VALUE=DATE:20260423T071926Z
DTSTAMP:20260423T111926Z
LOCATION:
DESCRIPTION:
SUMMARY:Quarantine Olympics 2020
ORGANIZER:
URL;VALUE=URI:https://www.jaxfray.com/event/quarantine-olympics-2020
TRANSP:OPAQUE
BEGIN:VALARM
ACTION:DISPLAY
TRIGGER;VALUE=DATE-TIME:20260423T071926Z
DESCRIPTION:Reminder for Quarantine Olympics 2020
END:VALARM
END:VEVENT
END:VCALENDAR