BEGIN:VCALENDAR
VERSION:2.0
PRODID:-//JAX Fray //NONSGML Events //EN
CALSCALE:GREGORIAN
X-WR-CALNAME:JAX Fray
BEGIN:VEVENT
CREATED:20200331T144258Z
UID:4685
DTEND;VALUE=DATE:20260423T071925Z
DTSTART;VALUE=DATE:20260423T071925Z
DTSTAMP:20260423T111925Z
LOCATION:
DESCRIPTION:
SUMMARY:Fray Book Club // The Wives by Tarryn Fisher
ORGANIZER:
URL;VALUE=URI:https://www.jaxfray.com/event/fray-book-club-the-wives-by-tarryn-fisher
TRANSP:OPAQUE
BEGIN:VALARM
ACTION:DISPLAY
TRIGGER;VALUE=DATE-TIME:20260423T071925Z
DESCRIPTION:Reminder for Fray Book Club // The Wives by Tarryn Fisher
END:VALARM
END:VEVENT
END:VCALENDAR