BEGIN:VCALENDAR
VERSION:2.0
PRODID:-//JAX Fray //NONSGML Events //EN
CALSCALE:GREGORIAN
X-WR-CALNAME:JAX Fray
BEGIN:VEVENT
CREATED:20180911T223235Z
UID:2659
DTEND;VALUE=DATE:20260423T071925Z
DTSTART;VALUE=DATE:20260423T071925Z
DTSTAMP:20260423T111925Z
LOCATION:
DESCRIPTION:
SUMMARY:Ziplining Party at Osprey Challenge Course
ORGANIZER:
URL;VALUE=URI:https://www.jaxfray.com/event/ziplining-party-at-osprey-challenge-course
TRANSP:OPAQUE
BEGIN:VALARM
ACTION:DISPLAY
TRIGGER;VALUE=DATE-TIME:20260423T071925Z
DESCRIPTION:Reminder for Ziplining Party at Osprey Challenge Course
END:VALARM
END:VEVENT
END:VCALENDAR