BEGIN:VCALENDAR
VERSION:2.0
PRODID:-//JAX Fray //NONSGML Events //EN
CALSCALE:GREGORIAN
X-WR-CALNAME:JAX Fray
BEGIN:VEVENT
CREATED:20180315T181401Z
UID:1909
DTEND;VALUE=DATE:20260420T081837Z
DTSTART;VALUE=DATE:20260420T081837Z
DTSTAMP:20260420T121837Z
LOCATION:
DESCRIPTION:
SUMMARY:Glow Yoga Southside 4/17
ORGANIZER:
URL;VALUE=URI:https://www.jaxfray.com/event/glow-yoga-southside-4-17
TRANSP:OPAQUE
BEGIN:VALARM
ACTION:DISPLAY
TRIGGER;VALUE=DATE-TIME:20260420T081837Z
DESCRIPTION:Reminder for Glow Yoga Southside 4/17
END:VALARM
END:VEVENT
END:VCALENDAR