BEGIN:VCALENDAR
VERSION:2.0
PRODID:-//JAX Fray //NONSGML Events //EN
CALSCALE:GREGORIAN
X-WR-CALNAME:JAX Fray
BEGIN:VEVENT
CREATED:20180131T225027Z
UID:1811
DTEND;VALUE=DATE:20260423T071945Z
DTSTART;VALUE=DATE:20260423T071945Z
DTSTAMP:20260423T111945Z
LOCATION:
DESCRIPTION:
SUMMARY:GLOW Yoga in JAX Beach 3/13
ORGANIZER:
URL;VALUE=URI:https://www.jaxfray.com/event/glow-yoga-jax-beach-313-2
TRANSP:OPAQUE
BEGIN:VALARM
ACTION:DISPLAY
TRIGGER;VALUE=DATE-TIME:20260423T071945Z
DESCRIPTION:Reminder for GLOW Yoga in JAX Beach 3/13
END:VALARM
END:VEVENT
END:VCALENDAR