BEGIN:VCALENDAR
VERSION:2.0
PRODID:-//JAX Fray //NONSGML Events //EN
CALSCALE:GREGORIAN
X-WR-CALNAME:JAX Fray
BEGIN:VEVENT
CREATED:20170916T162723Z
UID:1624
DTEND;VALUE=DATE:20260420T081837Z
DTSTART;VALUE=DATE:20260420T081837Z
DTSTAMP:20260420T121837Z
LOCATION:
DESCRIPTION:
SUMMARY:Glow Yoga – Riverside 11/20
ORGANIZER:
URL;VALUE=URI:https://www.jaxfray.com/event/glow-yoga-riverside-1030
TRANSP:OPAQUE
BEGIN:VALARM
ACTION:DISPLAY
TRIGGER;VALUE=DATE-TIME:20260420T081837Z
DESCRIPTION:Reminder for Glow Yoga – Riverside 11/20
END:VALARM
END:VEVENT
END:VCALENDAR