BEGIN:VCALENDAR
VERSION:2.0
PRODID:-//JAX Fray //NONSGML Events //EN
CALSCALE:GREGORIAN
X-WR-CALNAME:JAX Fray
BEGIN:VEVENT
CREATED:20170916T160240Z
UID:1622
DTEND;VALUE=DATE:20260420T082013Z
DTSTART;VALUE=DATE:20260420T082013Z
DTSTAMP:20260420T122013Z
LOCATION:
DESCRIPTION:
SUMMARY:Glow Yoga – JAX Beach 10/3
ORGANIZER:
URL;VALUE=URI:https://www.jaxfray.com/event/glow-yoga-jax-beach-103
TRANSP:OPAQUE
BEGIN:VALARM
ACTION:DISPLAY
TRIGGER;VALUE=DATE-TIME:20260420T082013Z
DESCRIPTION:Reminder for Glow Yoga – JAX Beach 10/3
END:VALARM
END:VEVENT
END:VCALENDAR