BEGIN:VCALENDAR
VERSION:2.0
PRODID:-//JAX Fray //NONSGML Events //EN
CALSCALE:GREGORIAN
X-WR-CALNAME:JAX Fray
BEGIN:VEVENT
CREATED:20170916T153526Z
UID:1615
DTEND;VALUE=DATE:20260423T071944Z
DTSTART;VALUE=DATE:20260423T071944Z
DTSTAMP:20260423T111944Z
LOCATION:
DESCRIPTION:
SUMMARY:Jax Beach Pajama Bar Crawl
ORGANIZER:
URL;VALUE=URI:https://www.jaxfray.com/event/jax-beach-pajama-bar-crawl
TRANSP:OPAQUE
BEGIN:VALARM
ACTION:DISPLAY
TRIGGER;VALUE=DATE-TIME:20260423T071944Z
DESCRIPTION:Reminder for Jax Beach Pajama Bar Crawl
END:VALARM
END:VEVENT
END:VCALENDAR