BEGIN:VCALENDAR
VERSION:2.0
PRODID:-//JAX Fray //NONSGML Events //EN
CALSCALE:GREGORIAN
X-WR-CALNAME:JAX Fray
BEGIN:VEVENT
CREATED:20170628T183817Z
UID:1464
DTEND;VALUE=DATE:20260423T084548Z
DTSTART;VALUE=DATE:20260423T084548Z
DTSTAMP:20260423T124548Z
LOCATION:
DESCRIPTION:
SUMMARY:Beaches Freedom Festival 7/15
ORGANIZER:
URL;VALUE=URI:https://www.jaxfray.com/event/beaches-freedom-festival-715
TRANSP:OPAQUE
BEGIN:VALARM
ACTION:DISPLAY
TRIGGER;VALUE=DATE-TIME:20260423T084548Z
DESCRIPTION:Reminder for Beaches Freedom Festival 7/15
END:VALARM
END:VEVENT
END:VCALENDAR