BEGIN:VCALENDAR
VERSION:2.0
PRODID:-//JAX Fray //NONSGML Events //EN
CALSCALE:GREGORIAN
X-WR-CALNAME:JAX Fray
BEGIN:VEVENT
CREATED:20170628T221603Z
UID:1457
DTEND;VALUE=DATE:20260423T071946Z
DTSTART;VALUE=DATE:20260423T071946Z
DTSTAMP:20260423T111946Z
LOCATION:
DESCRIPTION:
SUMMARY:Red, White and Brew
ORGANIZER:
URL;VALUE=URI:https://www.jaxfray.com/event/red-white-brew
TRANSP:OPAQUE
BEGIN:VALARM
ACTION:DISPLAY
TRIGGER;VALUE=DATE-TIME:20260423T071946Z
DESCRIPTION:Reminder for Red\, White and Brew
END:VALARM
END:VEVENT
END:VCALENDAR