BEGIN:VCALENDAR
VERSION:2.0
PRODID:-//JAX Fray //NONSGML Events //EN
CALSCALE:GREGORIAN
X-WR-CALNAME:JAX Fray
BEGIN:VEVENT
CREATED:20170627T152657Z
UID:1455
DTEND;VALUE=DATE:20260420T094020Z
DTSTART;VALUE=DATE:20260420T094020Z
DTSTAMP:20260420T134020Z
LOCATION:
DESCRIPTION:
SUMMARY:GLOW Yoga JAX Beach 7/18
ORGANIZER:
URL;VALUE=URI:https://www.jaxfray.com/event/glow-yoga-jax-beach-718
TRANSP:OPAQUE
BEGIN:VALARM
ACTION:DISPLAY
TRIGGER;VALUE=DATE-TIME:20260420T094020Z
DESCRIPTION:Reminder for GLOW Yoga JAX Beach 7/18
END:VALARM
END:VEVENT
END:VCALENDAR