BEGIN:VCALENDAR
VERSION:2.0
PRODID:-//JAX Fray //NONSGML Events //EN
CALSCALE:GREGORIAN
X-WR-CALNAME:JAX Fray
BEGIN:VEVENT
CREATED:20170627T151044Z
UID:1453
DTEND;VALUE=DATE:20260420T094323Z
DTSTART;VALUE=DATE:20260420T094323Z
DTSTAMP:20260420T134323Z
LOCATION:
DESCRIPTION:
SUMMARY:Glow Yoga Riverside 8/1
ORGANIZER:
URL;VALUE=URI:https://www.jaxfray.com/event/glow-yoga-riverside-81
TRANSP:OPAQUE
BEGIN:VALARM
ACTION:DISPLAY
TRIGGER;VALUE=DATE-TIME:20260420T094323Z
DESCRIPTION:Reminder for Glow Yoga Riverside 8/1
END:VALARM
END:VEVENT
END:VCALENDAR