BEGIN:VCALENDAR
VERSION:2.0
PRODID:-//JAX Fray //NONSGML Events //EN
CALSCALE:GREGORIAN
X-WR-CALNAME:JAX Fray
BEGIN:VEVENT
CREATED:20170505T171432Z
UID:1393
DTEND;VALUE=DATE:20260423T084620Z
DTSTART;VALUE=DATE:20260423T084620Z
DTSTAMP:20260423T124620Z
LOCATION:
DESCRIPTION:
SUMMARY:Jacksonville Summer Beach Cleanup
ORGANIZER:
URL;VALUE=URI:https://www.jaxfray.com/event/jacksonville-summer-beach-cleanup
TRANSP:OPAQUE
BEGIN:VALARM
ACTION:DISPLAY
TRIGGER;VALUE=DATE-TIME:20260423T084620Z
DESCRIPTION:Reminder for Jacksonville Summer Beach Cleanup
END:VALARM
END:VEVENT
END:VCALENDAR