BEGIN:VCALENDAR
VERSION:2.0
PRODID:-//JAX Fray //NONSGML Events //EN
CALSCALE:GREGORIAN
X-WR-CALNAME:JAX Fray
BEGIN:VEVENT
CREATED:20170505T165036Z
UID:1387
DTEND;VALUE=DATE:20260420T094435Z
DTSTART;VALUE=DATE:20260420T094435Z
DTSTAMP:20260420T134435Z
LOCATION:
DESCRIPTION:
SUMMARY:GLOW Yoga in Jax Beach 6/20
ORGANIZER:
URL;VALUE=URI:https://www.jaxfray.com/event/glow-yoga-jax-beach
TRANSP:OPAQUE
BEGIN:VALARM
ACTION:DISPLAY
TRIGGER;VALUE=DATE-TIME:20260420T094435Z
DESCRIPTION:Reminder for GLOW Yoga in Jax Beach 6/20
END:VALARM
END:VEVENT
END:VCALENDAR