BEGIN:VCALENDAR
VERSION:2.0
PRODID:-//JAX Fray //NONSGML Events //EN
CALSCALE:GREGORIAN
X-WR-CALNAME:JAX Fray
BEGIN:VEVENT
CREATED:20170227T170550Z
UID:1083
DTEND;VALUE=DATE:20260423T084620Z
DTSTART;VALUE=DATE:20260423T084620Z
DTSTAMP:20260423T124620Z
LOCATION:
DESCRIPTION:
SUMMARY:Blue Room VIP Party @ The Brix
ORGANIZER:
URL;VALUE=URI:https://www.jaxfray.com/event/blue-room-vip-party-brix
TRANSP:OPAQUE
BEGIN:VALARM
ACTION:DISPLAY
TRIGGER;VALUE=DATE-TIME:20260423T084620Z
DESCRIPTION:Reminder for Blue Room VIP Party @ The Brix
END:VALARM
END:VEVENT
END:VCALENDAR