BEGIN:VCALENDAR
VERSION:2.0
PRODID:-//JAX Fray //NONSGML Events //EN
CALSCALE:GREGORIAN
X-WR-CALNAME:JAX Fray
BEGIN:VEVENT
CREATED:20170220T041554Z
UID:1073
DTEND;VALUE=DATE:20260420T093744Z
DTSTART;VALUE=DATE:20260420T093744Z
DTSTAMP:20260420T133744Z
LOCATION:
DESCRIPTION:
SUMMARY:Glow Yoga San Marco
ORGANIZER:
URL;VALUE=URI:https://www.jaxfray.com/event/glow-yoga-may
TRANSP:OPAQUE
BEGIN:VALARM
ACTION:DISPLAY
TRIGGER;VALUE=DATE-TIME:20260420T093744Z
DESCRIPTION:Reminder for Glow Yoga San Marco
END:VALARM
END:VEVENT
END:VCALENDAR